Package: msImpute Version: 1.17.0 Command: E:\biocbuild\bbs-3.21-bioc\R\bin\R.exe CMD INSTALL msImpute StartedAt: 2025-02-09 16:26:02 -0500 (Sun, 09 Feb 2025) EndedAt: 2025-02-09 16:26:40 -0500 (Sun, 09 Feb 2025) EllapsedTime: 38.4 seconds RetCode: 0 Status: OK