Package: msa Version: 1.39.0 Command: /Library/Frameworks/R.framework/Resources/bin/R CMD INSTALL msa StartedAt: 2025-02-09 15:09:35 -0500 (Sun, 09 Feb 2025) EndedAt: 2025-02-09 15:16:23 -0500 (Sun, 09 Feb 2025) EllapsedTime: 408.3 seconds RetCode: 0 Status: OK