Package: msa Version: 1.39.0 Command: /home/biocbuild/bbs-3.21-bioc/R/bin/R CMD check --install=check:msa.install-out.txt --library=/home/biocbuild/bbs-3.21-bioc/R/site-library --timings msa_1.39.0.tar.gz StartedAt: 2025-02-11 00:35:19 -0500 (Tue, 11 Feb 2025) EndedAt: 2025-02-11 00:36:55 -0500 (Tue, 11 Feb 2025) EllapsedTime: 96.1 seconds RetCode: 0 Status: WARNINGS CheckDir: msa.Rcheck Warnings: 2