Package: msgbsR Version: 1.31.0 Command: E:\biocbuild\bbs-3.21-bioc\R\bin\R.exe CMD check --no-multiarch --install=check:msgbsR.install-out.txt --library=E:\biocbuild\bbs-3.21-bioc\R\library --no-vignettes --timings msgbsR_1.31.0.tar.gz StartedAt: 2025-02-10 03:17:23 -0500 (Mon, 10 Feb 2025) EndedAt: 2025-02-10 03:26:23 -0500 (Mon, 10 Feb 2025) EllapsedTime: 539.9 seconds RetCode: 0 Status: OK CheckDir: msgbsR.Rcheck Warnings: 0