Package: msgbsR Version: 1.31.0 Command: E:\biocbuild\bbs-3.21-bioc\R\bin\R.exe CMD INSTALL msgbsR StartedAt: 2025-02-12 16:45:43 -0500 (Wed, 12 Feb 2025) EndedAt: 2025-02-12 16:46:46 -0500 (Wed, 12 Feb 2025) EllapsedTime: 62.6 seconds RetCode: 0 Status: OK