Package: msmsEDA Version: 1.45.0 Command: rm -rf msmsEDA.buildbin-libdir && mkdir msmsEDA.buildbin-libdir && /Users/biocbuild/BBS/utils/build-universal.sh msmsEDA_1.45.0.tar.gz /Library/Frameworks/R.framework/Resources/bin/R msmsEDA.buildbin-libdir StartedAt: 2025-02-09 22:22:29 -0500 (Sun, 09 Feb 2025) EndedAt: 2025-02-09 22:22:44 -0500 (Sun, 09 Feb 2025) EllapsedTime: 15.3 seconds RetCode: 0 Status: OK PackageFile: msmsEDA_1.45.0.tgz PackageFileSize: 497 KiB