Package: msmsEDA Version: 1.45.0 Command: /home/biocbuild/R/R/bin/R CMD build --keep-empty-dirs --no-resave-data msmsEDA StartedAt: 2025-01-29 00:39:53 -0000 (Wed, 29 Jan 2025) EndedAt: 2025-01-29 00:41:00 -0000 (Wed, 29 Jan 2025) EllapsedTime: 67.0 seconds RetCode: 0 Status: OK PackageFile: msmsEDA_1.45.0.tar.gz PackageFileSize: 440 KiB