Package: msmsEDA Version: 1.45.0 Command: /home/biocbuild/R/R/bin/R CMD check --install=check:msmsEDA.install-out.txt --library=/home/biocbuild/R/R/site-library --no-vignettes --timings msmsEDA_1.45.0.tar.gz StartedAt: 2025-01-28 12:54:12 -0000 (Tue, 28 Jan 2025) EndedAt: 2025-01-28 12:57:32 -0000 (Tue, 28 Jan 2025) EllapsedTime: 199.2 seconds RetCode: 0 Status: OK CheckDir: msmsEDA.Rcheck Warnings: 0