Package: msmsEDA Version: 1.45.0 Command: /Library/Frameworks/R.framework/Resources/bin/R CMD build --keep-empty-dirs --no-resave-data msmsEDA StartedAt: 2025-02-09 17:37:07 -0500 (Sun, 09 Feb 2025) EndedAt: 2025-02-09 17:38:23 -0500 (Sun, 09 Feb 2025) EllapsedTime: 76.5 seconds RetCode: 0 Status: OK PackageFile: msmsEDA_1.45.0.tar.gz PackageFileSize: 439.3 KiB