Package: msmsEDA Version: 1.45.0 Command: /Library/Frameworks/R.framework/Resources/bin/R CMD INSTALL msmsEDA StartedAt: 2025-02-04 15:29:27 -0500 (Tue, 04 Feb 2025) EndedAt: 2025-02-04 15:30:14 -0500 (Tue, 04 Feb 2025) EllapsedTime: 46.4 seconds RetCode: 0 Status: OK