Package: msmsEDA Version: 1.45.0 Command: rm -rf msmsEDA.buildbin-libdir && mkdir msmsEDA.buildbin-libdir && E:\biocbuild\bbs-3.21-bioc\R\bin\R.exe CMD INSTALL --build --library=msmsEDA.buildbin-libdir msmsEDA_1.45.0.tar.gz StartedAt: 2025-02-05 08:25:21 -0500 (Wed, 05 Feb 2025) EndedAt: 2025-02-05 08:26:05 -0500 (Wed, 05 Feb 2025) EllapsedTime: 44.1 seconds RetCode: 0 Status: OK PackageFile: msmsEDA_1.45.0.zip PackageFileSize: 394.5 KiB