Package: msmsEDA Version: 1.45.0 Command: E:\biocbuild\bbs-3.21-bioc\R\bin\R.exe CMD check --no-multiarch --install=check:msmsEDA.install-out.txt --library=E:\biocbuild\bbs-3.21-bioc\R\library --no-vignettes --timings msmsEDA_1.45.0.tar.gz StartedAt: 2025-02-05 03:44:11 -0500 (Wed, 05 Feb 2025) EndedAt: 2025-02-05 03:46:54 -0500 (Wed, 05 Feb 2025) EllapsedTime: 163.0 seconds RetCode: 0 Status: OK CheckDir: msmsEDA.Rcheck Warnings: 0