Package: mspms Version: 0.99.7 Maintainer: Charlie Bayne MaintainerEmail: baynec2 at gmail.com git_url: https://git.bioconductor.org/packages/mspms git_branch: devel git_last_commit: 9653326 git_last_commit_date: 2024-12-02 17:30:08 -0500 (Mon, 02 Dec 2024)