Package: mspms Version: 0.99.7 Command: /Library/Frameworks/R.framework/Resources/bin/R CMD build --keep-empty-dirs --no-resave-data mspms StartedAt: 2025-02-09 17:03:33 -0500 (Sun, 09 Feb 2025) EndedAt: 2025-02-09 17:04:21 -0500 (Sun, 09 Feb 2025) EllapsedTime: 47.5 seconds RetCode: 0 Status: OK PackageFile: mspms_0.99.7.tar.gz PackageFileSize: 3.448 MiB