Package: mspms Version: 0.99.7 Command: /home/biocbuild/R/R/bin/R CMD check --install=check:mspms.install-out.txt --library=/home/biocbuild/R/R/site-library --no-vignettes --timings mspms_0.99.7.tar.gz StartedAt: 2025-01-28 12:55:35 -0000 (Tue, 28 Jan 2025) EndedAt: 2025-01-28 13:12:01 -0000 (Tue, 28 Jan 2025) EllapsedTime: 985.6 seconds RetCode: 0 Status: OK CheckDir: mspms.Rcheck Warnings: 0