Package: mspms Version: 0.99.7 Command: /home/biocbuild/R/R/bin/R CMD INSTALL mspms StartedAt: 2025-01-29 20:33:11 -0000 (Wed, 29 Jan 2025) EndedAt: 2025-01-29 20:33:16 -0000 (Wed, 29 Jan 2025) EllapsedTime: 5.3 seconds RetCode: 0 Status: OK