############################################################################## ############################################################################## ### ### Running command: ### ### rm -rf mspms.buildbin-libdir && mkdir mspms.buildbin-libdir && /Users/biocbuild/BBS/utils/build-universal.sh mspms_0.99.7.tar.gz /Library/Frameworks/R.framework/Resources/bin/R mspms.buildbin-libdir ### ############################################################################## ############################################################################## >>>>>>> >>>>>>> INSTALLATION WITH 'R CMD INSTALL --preclean --no-multiarch --library=mspms.buildbin-libdir mspms_0.99.7.tar.gz' >>>>>>> * installing *source* package ‘mspms’ ... ** this is package ‘mspms’ version ‘0.99.7’ ** using staged installation ** R ** data *** moving datasets to lazyload DB ** inst ** byte-compile and prepare package for lazy loading ** help *** installing help indices *** copying figures ** building package indices ** installing vignettes ** testing if installed package can be loaded from temporary location ** testing if installed package can be loaded from final location ** testing if installed package keeps a record of temporary installation path * DONE (mspms)