Package: mspms Version: 0.99.7 Command: /Library/Frameworks/R.framework/Resources/bin/R CMD INSTALL mspms StartedAt: 2025-02-09 15:43:19 -0500 (Sun, 09 Feb 2025) EndedAt: 2025-02-09 15:43:27 -0500 (Sun, 09 Feb 2025) EllapsedTime: 7.1 seconds RetCode: 0 Status: OK