Package: mspms Version: 0.99.7 Command: /home/biocbuild/bbs-3.21-bioc/R/bin/R CMD INSTALL mspms StartedAt: 2025-02-12 15:34:34 -0500 (Wed, 12 Feb 2025) EndedAt: 2025-02-12 15:34:38 -0500 (Wed, 12 Feb 2025) EllapsedTime: 4.0 seconds RetCode: 0 Status: OK