Package: mspms Version: 0.99.7 Command: chmod a+r mspms -R && E:\biocbuild\bbs-3.21-bioc\R\bin\R.exe CMD build --keep-empty-dirs --no-resave-data mspms StartedAt: 2025-02-12 20:14:56 -0500 (Wed, 12 Feb 2025) EndedAt: 2025-02-12 20:19:06 -0500 (Wed, 12 Feb 2025) EllapsedTime: 250.7 seconds RetCode: 0 Status: OK PackageFile: mspms_0.99.7.tar.gz PackageFileSize: 2.844 MiB