Package: multiClust Version: 1.37.0 Command: rm -rf multiClust.buildbin-libdir && mkdir multiClust.buildbin-libdir && /Users/biocbuild/BBS/utils/build-universal.sh multiClust_1.37.0.tar.gz /Library/Frameworks/R.framework/Resources/bin/R multiClust.buildbin-libdir StartedAt: 2025-02-09 22:22:53 -0500 (Sun, 09 Feb 2025) EndedAt: 2025-02-09 22:22:58 -0500 (Sun, 09 Feb 2025) EllapsedTime: 4.1 seconds RetCode: 0 Status: OK PackageFile: multiClust_1.37.0.tgz PackageFileSize: 3.101 MiB