Package: multiClust Version: 1.37.0 Command: /Library/Frameworks/R.framework/Resources/bin/R CMD build --keep-empty-dirs --no-resave-data multiClust StartedAt: 2025-02-12 17:34:42 -0500 (Wed, 12 Feb 2025) EndedAt: 2025-02-12 17:35:20 -0500 (Wed, 12 Feb 2025) EllapsedTime: 37.9 seconds RetCode: 0 Status: OK PackageFile: multiClust_1.37.0.tar.gz PackageFileSize: 3.048 MiB