Package: multiClust Version: 1.37.0 Command: rm -rf multiClust.buildbin-libdir && mkdir multiClust.buildbin-libdir && E:\biocbuild\bbs-3.21-bioc\R\bin\R.exe CMD INSTALL --build --library=multiClust.buildbin-libdir multiClust_1.37.0.tar.gz StartedAt: 2025-02-10 08:14:51 -0500 (Mon, 10 Feb 2025) EndedAt: 2025-02-10 08:15:18 -0500 (Mon, 10 Feb 2025) EllapsedTime: 27.2 seconds RetCode: 0 Status: OK PackageFile: multiClust_1.37.0.zip PackageFileSize: 2.985 MiB