Package: multiClust Version: 1.37.0 Command: E:\biocbuild\bbs-3.21-bioc\R\bin\R.exe CMD check --no-multiarch --install=check:multiClust.install-out.txt --library=E:\biocbuild\bbs-3.21-bioc\R\library --no-vignettes --timings multiClust_1.37.0.tar.gz StartedAt: 2025-02-10 03:25:04 -0500 (Mon, 10 Feb 2025) EndedAt: 2025-02-10 03:26:24 -0500 (Mon, 10 Feb 2025) EllapsedTime: 80.5 seconds RetCode: 0 Status: OK CheckDir: multiClust.Rcheck Warnings: 0