Package: multiGSEA Version: 1.17.3 Command: rm -rf multiGSEA.buildbin-libdir && mkdir multiGSEA.buildbin-libdir && /Users/biocbuild/BBS/utils/build-universal.sh multiGSEA_1.17.3.tar.gz /Library/Frameworks/R.framework/Resources/bin/R multiGSEA.buildbin-libdir StartedAt: 2025-02-09 22:22:56 -0500 (Sun, 09 Feb 2025) EndedAt: 2025-02-09 22:23:32 -0500 (Sun, 09 Feb 2025) EllapsedTime: 36.7 seconds RetCode: 0 Status: OK PackageFile: multiGSEA_1.17.3.tgz PackageFileSize: 983 KiB