Package: multiGSEA Version: 1.17.3 Command: /Library/Frameworks/R.framework/Resources/bin/R CMD build --keep-empty-dirs --no-resave-data multiGSEA StartedAt: 2025-02-09 17:04:43 -0500 (Sun, 09 Feb 2025) EndedAt: 2025-02-09 17:14:28 -0500 (Sun, 09 Feb 2025) EllapsedTime: 585.5 seconds RetCode: 0 Status: OK PackageFile: multiGSEA_1.17.3.tar.gz PackageFileSize: 952.8 KiB