Package: multiGSEA Version: 1.17.3 Command: /Library/Frameworks/R.framework/Resources/bin/R CMD check --install=check:multiGSEA.install-out.txt --library=/Library/Frameworks/R.framework/Resources/library --no-vignettes --timings multiGSEA_1.17.3.tar.gz StartedAt: 2025-02-09 20:21:33 -0500 (Sun, 09 Feb 2025) EndedAt: 2025-02-09 20:25:34 -0500 (Sun, 09 Feb 2025) EllapsedTime: 241.2 seconds RetCode: 0 Status: OK CheckDir: multiGSEA.Rcheck Warnings: 0