Package: multiGSEA Version: 1.17.3 Command: rm -rf multiGSEA.buildbin-libdir && mkdir multiGSEA.buildbin-libdir && /Users/biocbuild/BBS/utils/build-universal.sh multiGSEA_1.17.3.tar.gz /Library/Frameworks/R.framework/Resources/bin/R multiGSEA.buildbin-libdir StartedAt: 2025-02-04 00:45:29 -0500 (Tue, 04 Feb 2025) EndedAt: 2025-02-04 00:47:18 -0500 (Tue, 04 Feb 2025) EllapsedTime: 108.8 seconds RetCode: 0 Status: OK PackageFile: multiGSEA_1.17.3.tgz PackageFileSize: 981.5 KiB