Package: multiGSEA Version: 1.17.3 Command: /home/biocbuild/bbs-3.21-bioc/R/bin/R CMD build --keep-empty-dirs --no-resave-data multiGSEA StartedAt: 2025-02-09 18:20:48 -0500 (Sun, 09 Feb 2025) EndedAt: 2025-02-09 18:42:48 -0500 (Sun, 09 Feb 2025) EllapsedTime: 1320.0 seconds RetCode: 0 Status: OK PackageFile: multiGSEA_1.17.3.tar.gz PackageFileSize: 952.8 KiB