Package: multiGSEA Version: 1.17.3 Command: /home/biocbuild/bbs-3.21-bioc/R/bin/R CMD check --install=check:multiGSEA.install-out.txt --library=/home/biocbuild/bbs-3.21-bioc/R/site-library --timings multiGSEA_1.17.3.tar.gz StartedAt: 2025-02-13 00:38:54 -0500 (Thu, 13 Feb 2025) EndedAt: 2025-02-13 01:12:52 -0500 (Thu, 13 Feb 2025) EllapsedTime: 2037.5 seconds RetCode: 0 Status: OK CheckDir: multiGSEA.Rcheck Warnings: 0