Package: multiGSEA Version: 1.17.3 Command: rm -rf multiGSEA.buildbin-libdir && mkdir multiGSEA.buildbin-libdir && E:\biocbuild\bbs-3.21-bioc\R\bin\R.exe CMD INSTALL --build --library=multiGSEA.buildbin-libdir multiGSEA_1.17.3.tar.gz StartedAt: 2025-02-10 08:15:00 -0500 (Mon, 10 Feb 2025) EndedAt: 2025-02-10 08:16:26 -0500 (Mon, 10 Feb 2025) EllapsedTime: 86.6 seconds RetCode: 0 Status: OK PackageFile: multiGSEA_1.17.3.zip PackageFileSize: 988.1 KiB