Package: multiGSEA Version: 1.17.3 Command: E:\biocbuild\bbs-3.21-bioc\R\bin\R.exe CMD INSTALL multiGSEA StartedAt: 2025-02-09 16:01:08 -0500 (Sun, 09 Feb 2025) EndedAt: 2025-02-09 16:02:38 -0500 (Sun, 09 Feb 2025) EllapsedTime: 90.8 seconds RetCode: 0 Status: OK