Package: multiHiCcompare Version: 1.25.0 Command: /Library/Frameworks/R.framework/Resources/bin/R CMD check --install=check:multiHiCcompare.install-out.txt --library=/Library/Frameworks/R.framework/Resources/library --no-vignettes --timings multiHiCcompare_1.25.0.tar.gz StartedAt: 2025-02-09 20:21:33 -0500 (Sun, 09 Feb 2025) EndedAt: 2025-02-09 20:23:03 -0500 (Sun, 09 Feb 2025) EllapsedTime: 90.1 seconds RetCode: 0 Status: OK CheckDir: multiHiCcompare.Rcheck Warnings: 0