Package: multiHiCcompare Version: 1.25.0 Command: /home/biocbuild/bbs-3.21-bioc/R/bin/R CMD build --keep-empty-dirs --no-resave-data multiHiCcompare StartedAt: 2025-02-12 18:16:44 -0500 (Wed, 12 Feb 2025) EndedAt: 2025-02-12 18:17:46 -0500 (Wed, 12 Feb 2025) EllapsedTime: 62.1 seconds RetCode: 0 Status: OK PackageFile: multiHiCcompare_1.25.0.tar.gz PackageFileSize: 4.737 MiB