Package: multiHiCcompare Version: 1.25.0 Command: /home/biocbuild/bbs-3.21-bioc/R/bin/R CMD INSTALL multiHiCcompare StartedAt: 2025-02-09 15:31:12 -0500 (Sun, 09 Feb 2025) EndedAt: 2025-02-09 15:31:41 -0500 (Sun, 09 Feb 2025) EllapsedTime: 29.6 seconds RetCode: 0 Status: OK