Package: multiWGCNA Version: 1.5.0 Command: /Library/Frameworks/R.framework/Resources/bin/R CMD check --install=check:multiWGCNA.install-out.txt --library=/Library/Frameworks/R.framework/Resources/library --no-vignettes --timings multiWGCNA_1.5.0.tar.gz StartedAt: 2025-02-09 20:22:04 -0500 (Sun, 09 Feb 2025) EndedAt: 2025-02-09 20:26:00 -0500 (Sun, 09 Feb 2025) EllapsedTime: 236.1 seconds RetCode: 0 Status: OK CheckDir: multiWGCNA.Rcheck Warnings: 0