Package: multiWGCNA Version: 1.5.0 Command: /Library/Frameworks/R.framework/Resources/bin/R CMD INSTALL multiWGCNA StartedAt: 2025-02-09 15:21:08 -0500 (Sun, 09 Feb 2025) EndedAt: 2025-02-09 15:21:21 -0500 (Sun, 09 Feb 2025) EllapsedTime: 12.9 seconds RetCode: 0 Status: OK