Package: multiWGCNA Version: 1.5.0 Command: /Library/Frameworks/R.framework/Resources/bin/R CMD INSTALL multiWGCNA StartedAt: 2025-02-12 15:33:08 -0500 (Wed, 12 Feb 2025) EndedAt: 2025-02-12 15:33:51 -0500 (Wed, 12 Feb 2025) EllapsedTime: 43.7 seconds RetCode: 0 Status: OK