Package: multiWGCNA Version: 1.5.0 Command: /home/biocbuild/bbs-3.21-bioc/R/bin/R CMD build --keep-empty-dirs --no-resave-data multiWGCNA StartedAt: 2025-02-09 18:21:16 -0500 (Sun, 09 Feb 2025) EndedAt: 2025-02-09 18:25:27 -0500 (Sun, 09 Feb 2025) EllapsedTime: 250.2 seconds RetCode: 0 Status: OK PackageFile: multiWGCNA_1.5.0.tar.gz PackageFileSize: 3.387 MiB