Package: multiWGCNA Version: 1.5.0 Command: /home/biocbuild/bbs-3.21-bioc/R/bin/R CMD check --install=check:multiWGCNA.install-out.txt --library=/home/biocbuild/bbs-3.21-bioc/R/site-library --timings multiWGCNA_1.5.0.tar.gz StartedAt: 2025-02-10 00:39:17 -0500 (Mon, 10 Feb 2025) EndedAt: 2025-02-10 00:53:02 -0500 (Mon, 10 Feb 2025) EllapsedTime: 825.4 seconds RetCode: 0 Status: OK CheckDir: multiWGCNA.Rcheck Warnings: 0