Package: multiWGCNA Version: 1.5.0 Command: /home/biocbuild/bbs-3.21-bioc/R/bin/R CMD INSTALL multiWGCNA StartedAt: 2025-02-09 15:43:04 -0500 (Sun, 09 Feb 2025) EndedAt: 2025-02-09 15:43:36 -0500 (Sun, 09 Feb 2025) EllapsedTime: 32.0 seconds RetCode: 0 Status: OK