Package: multiWGCNA Version: 1.5.0 Command: chmod a+r multiWGCNA -R && E:\biocbuild\bbs-3.21-bioc\R\bin\R.exe CMD build --keep-empty-dirs --no-resave-data multiWGCNA StartedAt: 2025-02-09 20:14:18 -0500 (Sun, 09 Feb 2025) EndedAt: 2025-02-09 20:20:34 -0500 (Sun, 09 Feb 2025) EllapsedTime: 376.6 seconds RetCode: 0 Status: OK PackageFile: multiWGCNA_1.5.0.tar.gz PackageFileSize: 1.981 MiB