Package: multicrispr Version: 1.17.1 Command: rm -rf multicrispr.buildbin-libdir && mkdir multicrispr.buildbin-libdir && /Users/biocbuild/BBS/utils/build-universal.sh multicrispr_1.17.1.tar.gz /Library/Frameworks/R.framework/Resources/bin/R multicrispr.buildbin-libdir StartedAt: 2025-02-10 01:05:00 -0500 (Mon, 10 Feb 2025) EndedAt: 2025-02-10 01:05:54 -0500 (Mon, 10 Feb 2025) EllapsedTime: 53.1 seconds RetCode: 0 Status: OK PackageFile: multicrispr_1.17.1.tgz PackageFileSize: 2.743 MiB