Package: multicrispr Version: 1.17.1 Command: /Library/Frameworks/R.framework/Resources/bin/R CMD build --keep-empty-dirs --no-resave-data multicrispr StartedAt: 2025-02-09 17:40:31 -0500 (Sun, 09 Feb 2025) EndedAt: 2025-02-09 17:42:21 -0500 (Sun, 09 Feb 2025) EllapsedTime: 109.6 seconds RetCode: 0 Status: OK PackageFile: multicrispr_1.17.1.tar.gz PackageFileSize: 2.586 MiB