Package: multicrispr Version: 1.17.1 Command: /Library/Frameworks/R.framework/Resources/bin/R CMD check --install=check:multicrispr.install-out.txt --library=/Library/Frameworks/R.framework/Resources/library --no-vignettes --timings multicrispr_1.17.1.tar.gz StartedAt: 2025-02-09 22:12:33 -0500 (Sun, 09 Feb 2025) EndedAt: 2025-02-09 22:19:45 -0500 (Sun, 09 Feb 2025) EllapsedTime: 432.2 seconds RetCode: 0 Status: OK CheckDir: multicrispr.Rcheck Warnings: 0