Package: multicrispr Version: 1.17.1 Command: /Library/Frameworks/R.framework/Resources/bin/R CMD INSTALL multicrispr StartedAt: 2025-02-09 15:43:19 -0500 (Sun, 09 Feb 2025) EndedAt: 2025-02-09 15:44:08 -0500 (Sun, 09 Feb 2025) EllapsedTime: 48.3 seconds RetCode: 0 Status: OK