Package: multicrispr Version: 1.17.1 Command: /home/biocbuild/bbs-3.21-bioc/R/bin/R CMD check --install=check:multicrispr.install-out.txt --library=/home/biocbuild/bbs-3.21-bioc/R/site-library --timings multicrispr_1.17.1.tar.gz StartedAt: 2025-02-10 00:38:00 -0500 (Mon, 10 Feb 2025) EndedAt: 2025-02-10 00:45:44 -0500 (Mon, 10 Feb 2025) EllapsedTime: 464.0 seconds RetCode: 0 Status: OK CheckDir: multicrispr.Rcheck Warnings: 0