Package: multicrispr Version: 1.17.1 Command: /home/biocbuild/bbs-3.21-bioc/R/bin/R CMD INSTALL multicrispr StartedAt: 2025-02-09 15:43:19 -0500 (Sun, 09 Feb 2025) EndedAt: 2025-02-09 15:43:55 -0500 (Sun, 09 Feb 2025) EllapsedTime: 35.7 seconds RetCode: 0 Status: OK