Package: multicrispr Version: 1.17.1 Command: chmod a+r multicrispr -R && E:\biocbuild\bbs-3.21-bioc\R\bin\R.exe CMD build --keep-empty-dirs --no-resave-data multicrispr StartedAt: 2025-02-09 20:12:39 -0500 (Sun, 09 Feb 2025) EndedAt: 2025-02-09 20:15:36 -0500 (Sun, 09 Feb 2025) EllapsedTime: 176.4 seconds RetCode: 0 Status: OK PackageFile: multicrispr_1.17.1.tar.gz PackageFileSize: 1.967 MiB