Package: multicrispr Version: 1.17.1 Command: E:\biocbuild\bbs-3.21-bioc\R\bin\R.exe CMD check --no-multiarch --install=check:multicrispr.install-out.txt --library=E:\biocbuild\bbs-3.21-bioc\R\library --no-vignettes --timings multicrispr_1.17.1.tar.gz StartedAt: 2025-02-10 03:25:51 -0500 (Mon, 10 Feb 2025) EndedAt: 2025-02-10 03:33:57 -0500 (Mon, 10 Feb 2025) EllapsedTime: 485.9 seconds RetCode: 0 Status: OK CheckDir: multicrispr.Rcheck Warnings: 0